BEGIN:VCALENDAR
VERSION:2.0
PRODID:-//Fondazione Ordine Mauriziano - ECPv6.15.17.1//NONSGML v1.0//EN
CALSCALE:GREGORIAN
METHOD:PUBLISH
X-WR-CALNAME:Fondazione Ordine Mauriziano
X-ORIGINAL-URL:https://www.ordinemauriziano.it
X-WR-CALDESC:Eventi per Fondazione Ordine Mauriziano
REFRESH-INTERVAL;VALUE=DURATION:PT1H
X-Robots-Tag:noindex
X-PUBLISHED-TTL:PT1H
BEGIN:VTIMEZONE
TZID:Europe/Rome
BEGIN:DAYLIGHT
TZOFFSETFROM:+0100
TZOFFSETTO:+0200
TZNAME:CEST
DTSTART:20250330T010000
END:DAYLIGHT
BEGIN:STANDARD
TZOFFSETFROM:+0200
TZOFFSETTO:+0100
TZNAME:CET
DTSTART:20251026T010000
END:STANDARD
BEGIN:DAYLIGHT
TZOFFSETFROM:+0100
TZOFFSETTO:+0200
TZNAME:CEST
DTSTART:20260329T010000
END:DAYLIGHT
BEGIN:STANDARD
TZOFFSETFROM:+0200
TZOFFSETTO:+0100
TZNAME:CET
DTSTART:20261025T010000
END:STANDARD
BEGIN:DAYLIGHT
TZOFFSETFROM:+0100
TZOFFSETTO:+0200
TZNAME:CEST
DTSTART:20270328T010000
END:DAYLIGHT
BEGIN:STANDARD
TZOFFSETFROM:+0200
TZOFFSETTO:+0100
TZNAME:CET
DTSTART:20271031T010000
END:STANDARD
END:VTIMEZONE
BEGIN:VEVENT
DTSTART;VALUE=DATE:20260415
DTEND;VALUE=DATE:20260629
DTSTAMP:20260419T225054
CREATED:20260130T085506Z
LAST-MODIFIED:20260415T103649Z
UID:16667-1776211200-1782691199@www.ordinemauriziano.it
SUMMARY:Sulle strade della Regina
DESCRIPTION:Alle origini dell’automobile moderna \nDal 5 marzo al 28 giugno\, negli spazi della Citroniera di Ponente della Palazzina di Caccia di Stupinigi\, arriva Sulle strade della Regina\, una produzione FOM – Fondazione Ordine Mauriziano e MAUTO – Museo Nazionale dell’Automobile. \nLa mostra racconta il passaggio dalla carrozza all’automobile ai tempi di Margherita di Savoia mettendo in relazione eleganza formale\, innovazione tecnica e trasformazioni della mobilità\, mettendo a confronto per la prima volta automobili storiche provenienti dal MAUTO e carrozze ottocentesche della collezione Nicolotti Furno. \nIl percorso espositivo attraversa un secolo di cambiamenti culturali e tecnologici\, dalle carrozze alle prime automobili italiane e straniere. Ogni mezzo racconta un mondo in trasformazione: dalla lentezza e ritualità dei viaggi in carrozza\, segno evidente di rango e potere\, alla novità e al fascino delle prime automobili\, ancora rare e sorprendenti. \nIl racconto si intreccia poi con la figura di Margherita di Savoia\, che durante la sua permanenza a Stupinigi visse in prima persona questa fase di transizione. Attenta alle innovazioni e alle nuove tecnologie\, la Regina utilizzò sia le carrozze tradizionali sia le prime automobili\, diventando testimone e protagonista dei modelli di mobilità tra la fine dell’Ottocento e l’inizio del Novecento. Lei stessa aveva la patente di guida e possedeva una scuderia di tredici automobili\, ciascuna identificata da un nome di uccello: Palombella\, Falco\, Falchetto\, Sparviero\, Aquila\, Alcione\, Condor\, Allodola\, Stornello\, ecc… \n\n\n\nTra le carrozze in mostra figurano la Landau Ronde (detta comunemente in Italia Landò)\, realizzata da Locati nel 1880; la Milord della Carrozzeria Orsaniga Enrico di Milano del 1860 e la Clarence\, appartenente alla categoria dei Brougham o Brumm\, dei Fratelli Macchi di Varese del 1870. La Phaeton\, carrozza leggera ed agile\, deve il suo nome al mito di Fetonte\, il giovane figlio di Apollo che sfidò il cielo sul carro del sole: con le sue quattro ruote imponenti e il corpo snello\, era pensata per una guida veloce ed elegante. Due gli esemplari presenti: la Stanhope Phaeton dei Successori Canovai di Firenze del 1870 e la Spider Phaeton di Mulbacher (Parigi) del 1880\, più moderna e sicura pur mantenendo un carattere sportivo nella struttura “a ragno”. L’Omnibus Privé del 1880 della carrozzeria Dufour di Bordeaux; la Vis a Vis della Società M. Locati e G. Torretta del 1890. La carrozza sportiva Break Wagonette della Bottazzi di Napoli del 1890\, utilizzata per passeggiate in campagna: il nome deriva da “to break” addestrare i cavalli e la Coupé Brougham\, chiamata anche Brum in Italia della Cesare Sala del 1870. \nAccanto alle carrozze\, la mostra presenta una selezione significativa di automobili delle origini provenienti dalla preziosa collezione del MAUTO: la Benz Victoria del 1893 progettata da Karl Benz\, considerato con Gottlieb Daimler il padre dell’automobile; la Decauville 31⁄2 HP\, vincitrice della Parigi-Amsterdam-Parigi del 1898; la Hurtu 3 HP del 1898; la De Dion-Bouton 13⁄4 HP del 1899\, versione a quattro ruote prodotta dai vincitori della prima corsa automobilistica al mondo\, la Parigi-Rouen. Clément-Panhard VCP 3 HP del 1899; la Oldsmobile 6C Curved Dash del 1904 primo modello di grande diffusione commerciale. La Fiat 16/20 HP del 1906\, prodotta in 462 esemplari\, elegante landaulet donata al MAUTO dalla contessa Sofia di Bricherasio; la Vinot & Deguingand 14/20 HP del 1907; l’Isotta Fraschini BN 30/40 HP del 1910\, modello di lusso della casa milanese; Panhard & Levassor X17 SS del 1912 con il caratteristico motore “avalve” e la Fiat Tipo Zero A del 1913\, prima utilitaria della casa torinese. \nBiglietti:\nMostra – intero 8 euro; ridotto 6 euro; scuole 3 euro\nPalazzina + mostra: intero 18 euro; ridotto 14 euro; scuole 8 euro \nTour a bordo di di vetture d’epoca \nIl Museo dell’Automobile\, in collaborazione con la Fondazione Ordine Mauriziano\, propone un calendario di incontri tra marzo e giugno per salire a bordo di una 500C Belvedere oppure di una 508 Balilla\, guidate dal Conservatore del MAUTO e\, dopo una breve introduzione storica\, avranno la possibilità di fare un giro tra le strade alberate del parco storico. \nCalendario: \n\nVenerdì 27 marzo\, ore dalle 14.30 alle 15.30 / dalle 17.30 alle 18.30Alle ore 16 si terrà – nelle sale della Palazzina di caccia – la conferenzaSulle strade della Regina: innovazione e tecnologie alle origini dell’automobile\, con il curatore Davide Lorenzone\n\nVenerdì 10 aprile 2026\, ore 16 – 18.30 \n\n\nVenerdì 24 aprile 2026\, ore 16 – 18.30 \n\n\nVenerdì 8 maggio 2026\, ore 16 – 18.30 \n\n\nVenerdì 22 maggio 2026\, ore 16 – 18.30 \n\n\nVenerdì 5 giugno 2026\, ore 16 – 18.30 \n\n\n  \nI tour sono gestiti e organizzati dal MAUTO. È necessaria la prenotazione da completare qui.
URL:https://www.ordinemauriziano.it/palazzina-stupinigi/eventi/sulle-strade-della-regina/
LOCATION:Palazzina di Caccia Stupinigi\, Piazza Principe Amedeo. 7\, Stupinigi – Nichelino\, Torino\, 10042\, Italia
CATEGORIES:Mostre
ATTACH;FMTTYPE=image/jpeg:https://www.ordinemauriziano.it/wp-content/uploads/2026/01/dalle-carrozze-alle-automobili-2.jpg
END:VEVENT
BEGIN:VEVENT
DTSTART;VALUE=DATE:20260417
DTEND;VALUE=DATE:20260523
DTSTAMP:20260419T225054
CREATED:20260130T093924Z
LAST-MODIFIED:20260402T131922Z
UID:16676-1776384000-1779494399@www.ordinemauriziano.it
SUMMARY:Margherita a Stupinigi e il suo tempo
DESCRIPTION:Margherita a Stupinigi e il suo tempo\, un ciclo di quattro conferenze per racconta il gusto\, le passioni e il ruolo della prima Regina d’Italia nella cultura del suo tempo. Sono in programma il venerdì\, alle 16\, tra febbraio e maggio\, seguite da una visita guidata alla mostra Sulle strade della Regina. Alle origini dell’automobile moderna nella Citroniera di Ponente e al percorso Le stanze di Margherita negli ambienti dell’Appartamento di Levante. \nIl calendario delle conferenze: \n\nvenerdì 27 febbraio\, ore 16\, A tavola con la Regina. I menù di Margherita\, dedicato alla cucina\, ai rituali conviviali e al gusto dell’epoca\, tra tradizione\, rappresentanza e creatività (esclusa la visita alla mostra Sulle strade della Regina)\nvenerdì 27 marzo\, ore 16\, Margherita e la passione per l’automobile. La Regina e la modernità: l’automobile come simbolo di progresso\, velocità e nuovo stile di vita.\nvenerdì 17 aprile\, ore 16\, Regina\, icona di stile. Margherita e il “glamour\, un ritratto della sovrana come figura pubblica e modello di eleganza\, protagonista della comunicazione del suo tempo\nvenerdì 22 maggio\, ore 16\, Abitare da Regina. Arredi\, interni e gusto di Margherita\, dedicato agli spazi di vita e rappresentanza come espressione di identità\, gusto e potere\, tra storia\, collezionismo e design\n\nPrenota qui il tuo posto comprensivo di biglietto di ingresso in Palazzina. \nInformazioni: stupinigi@biglietteria.ordinemauriziano.it.
URL:https://www.ordinemauriziano.it/palazzina-stupinigi/eventi/margherita-a-stupinigi-e-il-suo-tempo/
LOCATION:Palazzina di Caccia Stupinigi\, Piazza Principe Amedeo. 7\, Stupinigi – Nichelino\, Torino\, 10042\, Italia
CATEGORIES:Attività Culturali
ATTACH;FMTTYPE=image/jpeg:https://www.ordinemauriziano.it/wp-content/uploads/2026/01/4-lestanzedimargheritasalacervo.jpg
END:VEVENT
BEGIN:VEVENT
DTSTART;VALUE=DATE:20260418
DTEND;VALUE=DATE:20260419
DTSTAMP:20260419T225054
CREATED:20250115T115650Z
LAST-MODIFIED:20260415T103731Z
UID:14857-1776470400-1776556799@www.ordinemauriziano.it
SUMMARY:Passepartout - Dietro le porte segrete 2026 SOLD OUT
DESCRIPTION:“Dietro le porte segrete” è una visita agli ambienti nascosti della servitù\, ai passaggi e ai corridoi ricchi di fascino e di storia\, usati per divincolarsi nel dedalo di stanze e raggiungere discretamente le sale e gli appartamenti privati. \nLa visita conduce negli spazi nascosti dove si muoveva la servitù e dove si trova ancora il quadro dei campanelli automatici che permette di comprendere da vicino il funzionamento di una residenza come quella di Stupinigi. \n  \nSabato 11 aprile\, ore 14.30 e 16.00 SOLD OUT \nSabato 18 aprile\, ore 14.30 e 16.00 SOLD OUT \n  \nVisita guidata di circa 1 ora \nCosto: 22 euro. (12 € di biglietto di ingresso più 10 di visita guidata) Ridotto 18 €\nCon abbonamento musei 10 € \nInfo e prenotazioni : stupinigi@info.ordinemauriziano.it
URL:https://www.ordinemauriziano.it/palazzina-stupinigi/eventi/passepartout-dietro-le-porte-segrete-2026/
LOCATION:Palazzina di Caccia Stupinigi\, Piazza Principe Amedeo. 7\, Stupinigi – Nichelino\, Torino\, 10042\, Italia
CATEGORIES:Attività Culturali
ATTACH;FMTTYPE=image/jpeg:https://www.ordinemauriziano.it/wp-content/uploads/2022/09/stupinigi-dietro-le-porte-segrete.jpg
END:VEVENT
BEGIN:VEVENT
DTSTART;VALUE=DATE:20260418
DTEND;VALUE=DATE:20260419
DTSTAMP:20260419T225054
CREATED:20250115T120306Z
LAST-MODIFIED:20260415T103723Z
UID:14859-1776470400-1776556799@www.ordinemauriziano.it
SUMMARY:Passepartout - Sotto il cervo 2026 Sold Out
DESCRIPTION:“Sotto il cervo” permette di raggiungere la sommità della cupola juvarriana\, per camminare lungo i suggestivi balconi concavi/convessi che affacciano sul grandioso salone centrale\, guardare da vicino il tetto a barca rovesciata di Juvarra dalla complessa orditura in legno e ammirare dall’alto un panorama unico che si estende a 360 gradi sotto il cervo\, simbolo della Palazzina di Caccia di Stupinigi. \nMassimo 10 persone per turno di visita (età minima 12 anni) \n  \nSabato 11 aprile\, ore 10.30 e 12 SOLD OUT \nSabato 18 aprile\, ore 10.30 e 12 SOLD OUT \n  \nVisita guidata di circa 1 ora \nCosto: 25 euro. (15 € di biglietto di ingresso più 10 di visita guidata\, ridotto 12 € più 10 di visita guidata). Con abbonamento musei 10 € \nInfo e prenotazioni : stupinigi@info.ordinemauriziano.it
URL:https://www.ordinemauriziano.it/palazzina-stupinigi/eventi/passepartout-sotto-il-cervo-2026/
LOCATION:Palazzina di Caccia Stupinigi\, Piazza Principe Amedeo. 7\, Stupinigi – Nichelino\, Torino\, 10042\, Italia
CATEGORIES:Attività Culturali
ATTACH;FMTTYPE=image/jpeg:https://www.ordinemauriziano.it/wp-content/uploads/2022/09/passepartout-sotto-il-cervo.jpg
END:VEVENT
BEGIN:VEVENT
DTSTART;TZID=Europe/Rome:20260419T150000
DTEND;TZID=Europe/Rome:20260419T170000
DTSTAMP:20260419T225054
CREATED:20260313T094425Z
LAST-MODIFIED:20260415T100533Z
UID:16900-1776610800-1776618000@www.ordinemauriziano.it
SUMMARY:Le facce di Ranverso
DESCRIPTION:Per “Disegniamo l’arte” alla Precettoria di Sant’Antonio di Ranverso si va alla ricerca degli stati d’animo: grazie alla varietà di espressioni artistiche si cercano le facce da poter riprodurre dal vero. “Le facce di Ranverso” non è solo un’operazione di copia\, ma è anche una sorta di caccia all’immagine partendo dalle indicazioni delle espressioni che sono raffigurate nei volti sia di pietra e sia dipinti. \nL’attività costa 5 euro\, più il biglietto di ingresso. \nÈ indispensabile la prenotazione entro il venerdì precedente.\nInfo e prenotazioni (dal mercoledì alla domenica): 011 6200603; ranverso@biglietteria.ordinemauriziano.it
URL:https://www.ordinemauriziano.it/ranverso/eventi/disegniamo-arte-2026-2/
LOCATION:Precettoria di Sant’Antonio di Ranverso\, Precettoria di Sant’Antonio di Ranverso\, Buttigliera Alta\, Torino\, 10090\, Italia
CATEGORIES:Appuntamenti per famiglie,Eventi
ATTACH;FMTTYPE=image/jpeg:https://www.ordinemauriziano.it/wp-content/uploads/2023/10/halloween-ranverso-02.jpg
END:VEVENT
BEGIN:VEVENT
DTSTART;TZID=Europe/Rome:20260419T154500
DTEND;TZID=Europe/Rome:20260419T170000
DTSTAMP:20260419T225054
CREATED:20260313T093613Z
LAST-MODIFIED:20260415T122357Z
UID:16898-1776613500-1776618000@www.ordinemauriziano.it
SUMMARY:Disegniamo l'arte - La natura dentro e fuori
DESCRIPTION:Disegniamo l’arte è un’attività che da anni invita grandi e piccoli a sperimentare il disegno dal vero. \nUn momento aperto a tutta la famiglia\, senza limiti di età\, per osservare con attenzione e tradurre su carta ciò che ci circonda. All’interno e all’esterno della palazzina verranno predisposte diverse postazioni di lavoro\, dedicate alla natura: foglie\, rami\, scorci del giardino e dettagli architettonici diventeranno punti di partenza per esercitare lo sguardo e il drawing style. Un’occasione semplice e condivisa per rallentare\, osservare e riscoprire il piacere di disegnare insieme. \nDurata dell’evento: 1.30 circa. Prezzo visita+laboratorio: 5 euro\, più il biglietto di ingresso.\nPrenotazione obbligatoria per la visita guidata entro il venerdì precedente\nInfo: 011 6200601 – stupinigi@biglietteria.ordinemauriziano.it
URL:https://www.ordinemauriziano.it/palazzina-stupinigi/eventi/disegniamo-arte-2026/
LOCATION:Palazzina di Caccia Stupinigi\, Piazza Principe Amedeo. 7\, Stupinigi – Nichelino\, Torino\, 10042\, Italia
CATEGORIES:Appuntamenti per famiglie,Eventi
ATTACH;FMTTYPE=image/jpeg:https://www.ordinemauriziano.it/wp-content/uploads/2025/05/giardino-stupinigi.jpeg
END:VEVENT
BEGIN:VEVENT
DTSTART;TZID=Europe/Rome:20260426T150000
DTEND;TZID=Europe/Rome:20260426T170000
DTSTAMP:20260419T225054
CREATED:20260311T152417Z
LAST-MODIFIED:20260311T152417Z
UID:16886-1777215600-1777222800@www.ordinemauriziano.it
SUMMARY:Viva Jaquerio!
DESCRIPTION:Una visita speciale per conoscere la vita\, il lavoro e la bottega dell’artista di Giacomo Jaquerio\, uno dei maggiori esponenti del gotico internazionale del Piemonte che ha lasciati\, proprio a Ranverso\, la sua firma e il suo più grande capolavoro. \nNato nel 1375 circa a Torino da una famiglia con una lunga tradizione nella pratica della pittura\, vive la prima parte della sua vita tra continui spostamenti fra Torino\, Ginevra\, Thonon-les-Bains ed altre località d’oltralpe\, lavorando al servizio di Amedeo VIII di Savoia e ricevendo commesse da istituzioni religiose e da importanti casate nobiliari. Dal 1429 in poi abitò stabilmente a Torino. Della sua vasta produzione solo pochissime opere sono documentate. Il primo documento certo relativo a Jaquerio è la sua firma\, scoperta solo nel 1914 sugli affreschi dell’Abbazia di Sant’Antonio di Ranverso\, databili intorno al 1410\, epoca in cui l’artista doveva già essere a capo di un’ampia bottega. La Salita al Calvario è il suo capolavoro caratterizzato da toni marcatamente realistici di crudeltà e dolore che ne fanno un brano pittorico di grande tensione drammatica. \nCosto visita: 5 euro\, oltre il prezzo del biglietto. \nÈ indispensabile la prenotazione entro il giorno precedente.\nInfo e prenotazioni (dal mercoledì alla domenica):\n011 6200603 ranverso@biglietteria.ordinemauriziano.it \n 
URL:https://www.ordinemauriziano.it/ranverso/eventi/viva-jaquerio-aprile-26/
LOCATION:Precettoria di Sant’Antonio di Ranverso\, Precettoria di Sant’Antonio di Ranverso\, Buttigliera Alta\, Torino\, 10090\, Italia
CATEGORIES:Attività Culturali
ATTACH;FMTTYPE=image/jpeg:https://www.ordinemauriziano.it/wp-content/uploads/2025/02/salita-al-calvario.jpeg
END:VEVENT
BEGIN:VEVENT
DTSTART;TZID=Europe/Rome:20260503T110000
DTEND;TZID=Europe/Rome:20261101T150000
DTSTAMP:20260419T225054
CREATED:20240501T081644Z
LAST-MODIFIED:20260415T103607Z
UID:13521-1777806000-1793545200@www.ordinemauriziano.it
SUMMARY:Visita guidata all’Abbazia di Staffarda
DESCRIPTION:Una delle più antiche abbazie in Italia\, fondata nel 1135 dai monaci cistercensi. Un invito a respirare la spiritualità e la quiete del chiostro\, l’asimmetria della chiesa\, il silenzio della vita monastica di un tempo\, accompagnati dalla narrazione appassionata delle nostre guide DialogArt. Una visita guidata completa con qualche eccezionale affaccio in più in esclusiva. \nOgni prima domenica del mese\, ore 11:00 e 15:00\, fino al 1 novembre 2026. \nProssimi appuntamenti: \n\nDomenica 1 marzo\nDomenica 5 aprile\nDomenica 3 maggio\nDomenica 7 giugno\nDomenica 5 luglio\nDomenica 2 agosto\nDomenica 6 settembre\nDomenica 4 ottobre\nDomenica 1 novembre\n\nLa visita dura circa 1 ora. \n5 euro più il costo del biglietto d’ingresso \nPrenotazione obbligatoria infodialogart@gmail.com oppure 0175/273215\, posti limitati.
URL:https://www.ordinemauriziano.it/abbazia-staffarda/eventi/visita-guidata-allabbazia-di-staffarda-2026/
LOCATION:Abbazia di S.Maria Staffarda\, Piazza Roma\, 2\, Frazione Staffarda\, 12036\, Italia
CATEGORIES:Attività Culturali
ATTACH;FMTTYPE=image/jpeg:https://www.ordinemauriziano.it/wp-content/uploads/2021/04/abbazia-di-staffarda-min-scaled-e1619439933785.jpg
END:VEVENT
BEGIN:VEVENT
DTSTART;TZID=Europe/Rome:20260508T154500
DTEND;TZID=Europe/Rome:20260710T170000
DTSTAMP:20260419T225054
CREATED:20260130T092338Z
LAST-MODIFIED:20260415T103707Z
UID:16672-1778255100-1783702800@www.ordinemauriziano.it
SUMMARY:Margherita a Stupinigi
DESCRIPTION:Da marzo e fino a luglio 2026\, ogni secondo venerdì del mese\, un ciclo di visite guidate dal titolo “Margherita a Stupinigi” per scoprire gli ambienti della Palazzina legati alla presenza della regina e alle innovazioni introdotte nei primi anni del Novecento\, configurandosi come una visita narrata del percorso della mostra. \nDi sala in sala\, si esploreranno gli ambienti abitati dalla prima Regina d’Italia che fece diventare la Palazzina di Stupinigi una delle sue residenze prevalenti dotando il palazzo di numerosi accessori finalizzati alla sua comodità\, tra cui il potenziamento dell’impianto di riscaldamento\, i servizi di ritirata all’inglese con acqua corrente e lavandini con acqua fredda e calda\, la corrente elettrica e l’ascensore idraulico\, un elemento tecnico sorprendente in un contesto barocco. \nIl calendario degli appuntamenti: \n\nvenerdì 13 marzo\, ore 15.45\nvenerdì 10 aprile\, ore 15.45\nvenerdì 8 maggio\, ore 15.45\nvenerdì 12 giugno\, ore 15.45\nvenerdì 10 luglio\, ore 15.45\n\nLe visite guidate hanno un costo di 5 euro oltre al biglietto di ingresso. \nInfo e prenotazioni: stupinigi@biglietteria.ordinemauriziano.it
URL:https://www.ordinemauriziano.it/eventi/margherita-stupinigi-visite-guidate/
LOCATION:Palazzina di Caccia Stupinigi\, Piazza Principe Amedeo. 7\, Stupinigi – Nichelino\, Torino\, 10042\, Italia
CATEGORIES:Attività Culturali
ATTACH;FMTTYPE=image/jpeg:https://www.ordinemauriziano.it/wp-content/uploads/2026/01/dalle-carrozze-alle-automobili-7.jpg
END:VEVENT
BEGIN:VEVENT
DTSTART;TZID=Europe/Rome:20260510T150000
DTEND;TZID=Europe/Rome:20260510T173000
DTSTAMP:20260419T225054
CREATED:20260417T125953Z
LAST-MODIFIED:20260417T135641Z
UID:17131-1778425200-1778434200@www.ordinemauriziano.it
SUMMARY:Festa della mamma: La Madonna a Ranverso
DESCRIPTION:La rappresentazione della Madonna a Ranverso: dall’annunciata\, alla natività\, fino alla morte della Vergine all’interno di un ciclo di affreschi dedicato… Jaquerio e non solo. \nL’attività costa 5 euro più il biglietto di ingresso \nPrenotazioni allo 011 6200603 (attivo da mercoledì a domenica); ranverso@biglietteria.ordinemauriziano.it
URL:https://www.ordinemauriziano.it/ranverso/eventi/festa-della-mamma-la-madonna-a-ranverso/
LOCATION:Precettoria di Sant’Antonio di Ranverso\, Precettoria di Sant’Antonio di Ranverso\, Buttigliera Alta\, Torino\, 10090\, Italia
CATEGORIES:Attività Culturali
ATTACH;FMTTYPE=image/jpeg:https://www.ordinemauriziano.it/wp-content/uploads/2024/11/polittico-ranverso-dettaglio.jpg
END:VEVENT
BEGIN:VEVENT
DTSTART;TZID=Europe/Rome:20260516T204500
DTEND;TZID=Europe/Rome:20260516T220000
DTSTAMP:20260419T225054
CREATED:20260417T123314Z
LAST-MODIFIED:20260417T123314Z
UID:17129-1778964300-1778968800@www.ordinemauriziano.it
SUMMARY:Notte bianca dei musei
DESCRIPTION:Alla Precettoria di Ranverso\, la notte dei musei si festeggia con una piccola passeggiata in notturna sulla via francigena e una visita al chiostro e alla chiesa abbaziale con una narrazione itinerante alla scoperta dei meravigliosi affreschi di Jaquerio in un’atmosfera ancora più suggestiva. \nLa visita ha inizio alle ore 20.45\, e ha un costo di 7 euro oltre al prezzo del biglietto di ingresso. \nPrenotazione obbligatoria entro venerdì 17 maggio\, 011 6200603 o ranverso@biglietteria.ordinemauriziano.it.
URL:https://www.ordinemauriziano.it/ranverso/eventi/notte-bianca-dei-musei-2026/
LOCATION:Precettoria di Sant’Antonio di Ranverso\, Precettoria di Sant’Antonio di Ranverso\, Buttigliera Alta\, Torino\, 10090\, Italia
CATEGORIES:Attività Culturali
ATTACH;FMTTYPE=image/jpeg:https://www.ordinemauriziano.it/wp-content/uploads/2024/05/ranverso-notturna.jpg
END:VEVENT
BEGIN:VEVENT
DTSTART;TZID=Europe/Rome:20260517T180000
DTEND;TZID=Europe/Rome:20260517T190000
DTSTAMP:20260419T225054
CREATED:20260417T090251Z
LAST-MODIFIED:20260417T090636Z
UID:17121-1779040800-1779044400@www.ordinemauriziano.it
SUMMARY:Concerto Coro Amici della montagna Cai di Asti
DESCRIPTION:75 anni d’in…canto \nLa formazione corale del sodalizio astigiano festeggia 75 anni di fondazione con un concerto alla Precettoria di Sant’Antonio di Ranverso. \nNel pomeriggio del 16 maggio verranno presentati alcuni dei brani più significativi del repertorio che spazia da canti di montagna\, degli alpini e popolari. Per l’occasione verranno anche premiati due coristi soci fondatori del coro. \nIl Coro Amici della montagna Cai di Asti ha eseguito più di 1000 concerti in Italia e all’estero. Negli anni 2000 ha ricevuto il prestigioso riconoscimento astigiano dell’Ordine di San Secondo.
URL:https://www.ordinemauriziano.it/ranverso/eventi/concerto-coro-amici-della-montagna-cai-di-asti/
LOCATION:Precettoria di Sant’Antonio di Ranverso\, Precettoria di Sant’Antonio di Ranverso\, Buttigliera Alta\, Torino\, 10090\, Italia
CATEGORIES:Musica e Teatro
ATTACH;FMTTYPE=image/jpeg:https://www.ordinemauriziano.it/wp-content/uploads/2025/08/ranverso-come-arrivare.jpeg
END:VEVENT
BEGIN:VEVENT
DTSTART;TZID=Europe/Rome:20260607T153000
DTEND;TZID=Europe/Rome:20260607T173000
DTSTAMP:20260419T225054
CREATED:20240506T123940Z
LAST-MODIFIED:20260415T095739Z
UID:13598-1780846200-1780853400@www.ordinemauriziano.it
SUMMARY:Hortus Conclusus - Dalla parte del giardino
DESCRIPTION:Un viaggio che ripercorre l’antica Via Francigena per svelare la Precettoria di Ranverso attraverso il tema medievale della cura. Dall’antico ospedale alla chiesa\, il percorso culmina nell’Hortus Conclusus\, un luogo segreto dove il punto di vista si ribalta: è proprio dall’interno del giardino che l’architettura gotica rivela la sua vera essenza\, permettendo all’occhio di seguire le linee svettanti verso il cielo in un dialogo perfetto tra pietra e natura. Qui\, lo spazio racchiuso diventa il palcoscenico per un’immersione profonda nel benessere di corpo e anima\, scoprendo la bellezza di guardare il mondo da un centro protetto e spirituale. \nL’attività costa 5 euro più il biglietto di ingresso \nInfo e prenotazioni: \n(dal mercoledì alla domenica per prenotazioni telefoniche\, per prenotazioni via e-mail\, attendere sempre una conferma scritta\, controllare anche lo spam) \n011 6200603; ranverso@biglietteria.ordinemauriziano.it \nPrenotazione entro il venerdì precedente la visita. \n 
URL:https://www.ordinemauriziano.it/ranverso/eventi/hortus-conclusus2026/
LOCATION:Precettoria di Sant’Antonio di Ranverso\, Precettoria di Sant’Antonio di Ranverso\, Buttigliera Alta\, Torino\, 10090\, Italia
CATEGORIES:Attività Culturali
ATTACH;FMTTYPE=image/jpeg:https://www.ordinemauriziano.it/wp-content/uploads/2023/09/ortaggiotaccuino-sanitatis-casanatense-4182.jpg
END:VEVENT
END:VCALENDAR