BEGIN:VCALENDAR
VERSION:2.0
PRODID:-//Fondazione Ordine Mauriziano - ECPv6.15.17.1//NONSGML v1.0//EN
CALSCALE:GREGORIAN
METHOD:PUBLISH
X-WR-CALNAME:Fondazione Ordine Mauriziano
X-ORIGINAL-URL:https://www.ordinemauriziano.it
X-WR-CALDESC:Eventi per Fondazione Ordine Mauriziano
REFRESH-INTERVAL;VALUE=DURATION:PT1H
X-Robots-Tag:noindex
X-PUBLISHED-TTL:PT1H
BEGIN:VTIMEZONE
TZID:Europe/Rome
BEGIN:DAYLIGHT
TZOFFSETFROM:+0100
TZOFFSETTO:+0200
TZNAME:CEST
DTSTART:20220327T010000
END:DAYLIGHT
BEGIN:STANDARD
TZOFFSETFROM:+0200
TZOFFSETTO:+0100
TZNAME:CET
DTSTART:20221030T010000
END:STANDARD
BEGIN:DAYLIGHT
TZOFFSETFROM:+0100
TZOFFSETTO:+0200
TZNAME:CEST
DTSTART:20230326T010000
END:DAYLIGHT
BEGIN:STANDARD
TZOFFSETFROM:+0200
TZOFFSETTO:+0100
TZNAME:CET
DTSTART:20231029T010000
END:STANDARD
BEGIN:DAYLIGHT
TZOFFSETFROM:+0100
TZOFFSETTO:+0200
TZNAME:CEST
DTSTART:20240331T010000
END:DAYLIGHT
BEGIN:STANDARD
TZOFFSETFROM:+0200
TZOFFSETTO:+0100
TZNAME:CET
DTSTART:20241027T010000
END:STANDARD
END:VTIMEZONE
BEGIN:VEVENT
DTSTART;VALUE=DATE:20230702
DTEND;VALUE=DATE:20230703
DTSTAMP:20260419T223132
CREATED:20230908T072018Z
LAST-MODIFIED:20230908T074907Z
UID:8967-1688256000-1688342399@www.ordinemauriziano.it
SUMMARY:Camminate Reali: Itinerario 2
DESCRIPTION:Seconda tappa delle Camminate Reali \nUn inedito percorso tra antiche carrarecce e scorci panoramici da scoprire al ritmo del viandante: dall’antica Precettoria di Sant’Antonio di Ranverso\, legata nei secoli a Casa Savoia\, si prosegue accompagnati dalla visione del Castello di Rivoli\, imponente residenza di Vittorio Amedeo II\, per giungere all’altra sua dimora da sogno\, la Reggia di Venaria\, divenuta un grandioso complesso architettonico nel corso del Settecento. \nData: 2 luglio 2023 \nRitrovo: 08:00 \nArrivo previsto: 13:30 \nRitrovo: Precettoria di Sant’Antonio di Ranverso \nGli amici a 4 zampe sono ammessi al guinzaglio con accompagnatore.\nIn caso di maltempo: rimandato a domenica 9 luglio. \nSingola camminata 25 € \nRidotto 20 € (Under 18 anni\, Associazione 2FHiking\, Royal Pass e Abbonamento Musei) \nUnder 12 10 € \nBambini sotto i 6 anni gratis \nLa quota di iscrizione comprende: assicurazione\, assistenza durante il percorso\, maglietta dedicata (per over 12 anni) per ogni Camminata\, bicchiere telescopico\, servizio navetta quando prevista\, ristoro di tappe e ristoro finale. \nManifestazione ludico motoria non competitiva a passo libero aperta a tutti fino ad esaurimento dei posti disponibili. \nLa quota non comprende l’ingresso alle Residenze. \nInfoline: +393289655260 (dalle 09.00 alle 12.00) / +393891936842 (dalle 15.00 alle 18.00) \nEmail: info@camminatereali.it \nPer scaricare la brochure: https://www.ordinemauriziano.it/wp-content/uploads/2023/04/camminate-reali-2023def.pdf.
URL:https://www.ordinemauriziano.it/ranverso/eventi/camminate-reali-itinerario-2/
LOCATION:Precettoria di Sant’Antonio di Ranverso\, Precettoria di Sant’Antonio di Ranverso\, Buttigliera Alta\, Torino\, 10090\, Italia
CATEGORIES:Attività Culturali
ATTACH;FMTTYPE=image/jpeg:https://www.ordinemauriziano.it/wp-content/uploads/2023/09/camminate-reali-ranverso.jpg
END:VEVENT
BEGIN:VEVENT
DTSTART;VALUE=DATE:20230618
DTEND;VALUE=DATE:20230619
DTSTAMP:20260419T223132
CREATED:20230604T125906Z
LAST-MODIFIED:20230920T094854Z
UID:9281-1687046400-1687132799@www.ordinemauriziano.it
SUMMARY:Una visita reale
DESCRIPTION:Un piccolo avvenimento nascosto nelle pieghe della storia\, riemerso di recente solo grazie al ritrovamento di alcuni documenti. \nDal vicino Castello di Rivoli la Regina Anna Maria d’Orleans e la principessa Polissena si recano in visita all’antica Precettoria di Sant’Antonio di Ranverso. La Regina decide di far svagare la nuora che aveva appena perso un bambino. Il viaggio in carrozza\, la pace e la tranquillità del luogo in mezzo alla campagna rappresentano certamente un toccasana per la seconda moglie di Carlo Emanuele III. \nCon l’associazione Le vie del tempo\, ripercorreremo la visita della regina Anna D’Orleans e della Principessa Polissena D’Assia alla Precettoria di Sant’Antonio di Ranverso. Per tutto il giorno\, coloro che visiteranno la Precettoria avranno la possibilità di conoscere un momento particolare della sua storia\, dal punto di vista di personaggi realmente esistiti nel XVIII secolo. \n\nAlle 15.30 visita tematica con interazione con i personaggi.\nLa visita guidata costa 5 euro più il biglietto di ingresso. \nPrenotazioni allo 011 9367450 (attivo da mercoledì a domenica)\, ranverso@biglietteria.ordinemauriziano.it
URL:https://www.ordinemauriziano.it/ranverso/eventi/una-visita-reale/
LOCATION:Precettoria di Sant’Antonio di Ranverso\, Precettoria di Sant’Antonio di Ranverso\, Buttigliera Alta\, Torino\, 10090\, Italia
CATEGORIES:Attività Culturali
ATTACH;FMTTYPE=image/jpeg:https://www.ordinemauriziano.it/wp-content/uploads/2023/09/una-visita-storica-ranverso.jpg
END:VEVENT
END:VCALENDAR